BEGIN:VCALENDAR
VERSION:2.0
PRODID:-//CERN//INDICO//EN
BEGIN:VEVENT
SUMMARY:Spanish Grid Computing contribution for the LHC data taking.
DTSTART;VALUE=DATE-TIME:20121127T150000Z
DTEND;VALUE=DATE-TIME:20121127T152500Z
DTSTAMP;VALUE=DATE-TIME:20260423T220457Z
UID:indico-contribution-7571@indico.ific.uv.es
DESCRIPTION:Speakers: Santiago Gonzalez de la Hoz (IFIC\, CSIC/UV)\nhttps:
 //indico.ific.uv.es/event/574/contributions/7571/
LOCATION:Hotel Sercotel Carmen
URL:https://indico.ific.uv.es/event/574/contributions/7571/
END:VEVENT
END:VCALENDAR
