BEGIN:VCALENDAR
VERSION:2.0
PRODID:-//CERN//INDICO//EN
BEGIN:VEVENT
SUMMARY:Status and latest results from CMS.
DTSTART;VALUE=DATE-TIME:20121127T140000Z
DTEND;VALUE=DATE-TIME:20121127T143000Z
DTSTAMP;VALUE=DATE-TIME:20260421T134943Z
UID:indico-contribution-7569@indico.ific.uv.es
DESCRIPTION:Speakers: Mara Soares (CIEMAT)\nhttps://indico.ific.uv.es/even
 t/574/contributions/7569/
LOCATION:Hotel Sercotel Carmen
URL:https://indico.ific.uv.es/event/574/contributions/7569/
END:VEVENT
END:VCALENDAR
