BEGIN:VCALENDAR
VERSION:2.0
PRODID:-//CERN//INDICO//EN
BEGIN:VEVENT
SUMMARY:Nuclear reactions studies in Spain: a theorist's perspective
DTSTART;VALUE=DATE-TIME:20121128T081500Z
DTEND;VALUE=DATE-TIME:20121128T084500Z
DTSTAMP;VALUE=DATE-TIME:20260420T022524Z
UID:indico-contribution-7560@indico.ific.uv.es
DESCRIPTION:Speakers: Antonio Moro (Universidad de Sevilla)\nhttps://indic
 o.ific.uv.es/event/574/contributions/7560/
LOCATION:Hotel Sercotel Carmen
URL:https://indico.ific.uv.es/event/574/contributions/7560/
END:VEVENT
END:VCALENDAR
