BEGIN:VCALENDAR
VERSION:2.0
PRODID:-//CERN//INDICO//EN
BEGIN:VEVENT
SUMMARY:Warm Inflection.
DTSTART;VALUE=DATE-TIME:20121126T153000Z
DTEND;VALUE=DATE-TIME:20121126T160000Z
DTSTAMP;VALUE=DATE-TIME:20260419T222650Z
UID:indico-contribution-7559@indico.ific.uv.es
DESCRIPTION:Speakers: Rafael Cerezo (Universidad de Granada)\nhttps://indi
 co.ific.uv.es/event/574/contributions/7559/
LOCATION:Hotel Sercotel Carmen
URL:https://indico.ific.uv.es/event/574/contributions/7559/
END:VEVENT
END:VCALENDAR
