BEGIN:VCALENDAR
VERSION:2.0
PRODID:-//CERN//INDICO//EN
BEGIN:VEVENT
SUMMARY:Effective field theory approach to non-relativistic neutralino dar
 k matter pair-annihilation processes.
DTSTART;VALUE=DATE-TIME:20121126T140000Z
DTEND;VALUE=DATE-TIME:20121126T143000Z
DTSTAMP;VALUE=DATE-TIME:20260419T222914Z
UID:indico-contribution-7556@indico.ific.uv.es
DESCRIPTION:Speakers: Pedro Ruiz-Femenia (IFIC\, CSIC/UV)\nhttps://indico.
 ific.uv.es/event/574/contributions/7556/
LOCATION:Hotel Sercotel Carmen
URL:https://indico.ific.uv.es/event/574/contributions/7556/
END:VEVENT
END:VCALENDAR
