BEGIN:VCALENDAR
VERSION:2.0
PRODID:-//CERN//INDICO//EN
BEGIN:VEVENT
SUMMARY:Results from B factories (selected topics).
DTSTART;VALUE=DATE-TIME:20121126T163000Z
DTEND;VALUE=DATE-TIME:20121126T165500Z
DTSTAMP;VALUE=DATE-TIME:20260421T134940Z
UID:indico-contribution-7552@indico.ific.uv.es
DESCRIPTION:Speakers: Pablo Villanueva Pérez (IFIC\, CSIC/UV)\nhttps://in
 dico.ific.uv.es/event/574/contributions/7552/
LOCATION:Hotel Sercotel Carmen
URL:https://indico.ific.uv.es/event/574/contributions/7552/
END:VEVENT
END:VCALENDAR
