BEGIN:VCALENDAR
VERSION:2.0
PRODID:-//CERN//INDICO//EN
BEGIN:VEVENT
SUMMARY:Fits of Higgs couplings.
DTSTART;VALUE=DATE-TIME:20121127T075500Z
DTEND;VALUE=DATE-TIME:20121127T082000Z
DTSTAMP;VALUE=DATE-TIME:20260419T222650Z
UID:indico-contribution-7541@indico.ific.uv.es
DESCRIPTION:Speakers: Marc Montull (Institut de Fisica d'Altes Energies (I
 FAE))\nhttps://indico.ific.uv.es/event/574/contributions/7541/
LOCATION:Hotel Sercotel Carmen
URL:https://indico.ific.uv.es/event/574/contributions/7541/
END:VEVENT
END:VCALENDAR
