BEGIN:VCALENDAR
VERSION:2.0
PRODID:-//CERN//INDICO//EN
BEGIN:VEVENT
SUMMARY:Phenomenology of SUSY models with extended gauge groups.
DTSTART;VALUE=DATE-TIME:20121126T151000Z
DTEND;VALUE=DATE-TIME:20121126T153500Z
DTSTAMP;VALUE=DATE-TIME:20260419T222651Z
UID:indico-contribution-7540@indico.ific.uv.es
DESCRIPTION:Speakers: Laslo Reichert (IFIC\, CSIC/UV)\nhttps://indico.ific
 .uv.es/event/574/contributions/7540/
LOCATION:Hotel Sercotel Carmen
URL:https://indico.ific.uv.es/event/574/contributions/7540/
END:VEVENT
END:VCALENDAR
