BEGIN:VCALENDAR
VERSION:2.0
PRODID:-//CERN//INDICO//EN
BEGIN:VEVENT
SUMMARY:Nuclear structure experiments with RIBs
DTSTART;VALUE=DATE-TIME:20121128T084500Z
DTEND;VALUE=DATE-TIME:20121128T091500Z
DTSTAMP;VALUE=DATE-TIME:20260420T022524Z
UID:indico-contribution-7538@indico.ific.uv.es
DESCRIPTION:Speakers: Cesar Domingo-Pardo (IFIC\, CSIC/UV)\nhttps://indico
 .ific.uv.es/event/574/contributions/7538/
LOCATION:Hotel Sercotel Carmen
URL:https://indico.ific.uv.es/event/574/contributions/7538/
END:VEVENT
END:VCALENDAR
