BEGIN:VCALENDAR
VERSION:2.0
PRODID:-//CERN//INDICO//EN
BEGIN:VEVENT
SUMMARY:Observation of the Higgs boson at the LHC
DTSTART;VALUE=DATE-TIME:20121126T180000Z
DTEND;VALUE=DATE-TIME:20121126T184500Z
DTSTAMP;VALUE=DATE-TIME:20260421T171905Z
UID:indico-contribution-7535@indico.ific.uv.es
DESCRIPTION:Speakers: Tejinder Virdee (Imperial College)\nhttps://indico.i
 fic.uv.es/event/574/contributions/7535/
LOCATION:Hotel Sercotel Carmen
URL:https://indico.ific.uv.es/event/574/contributions/7535/
END:VEVENT
END:VCALENDAR
