BEGIN:VCALENDAR
VERSION:2.0
PRODID:-//CERN//INDICO//EN
BEGIN:VEVENT
SUMMARY:Energy density functional methods for nuclear structure\, nuclear 
 astrophysics and lepton number violating processes.
DTSTART;VALUE=DATE-TIME:20121126T154000Z
DTEND;VALUE=DATE-TIME:20121126T160500Z
DTSTAMP;VALUE=DATE-TIME:20260419T222913Z
UID:indico-contribution-7531@indico.ific.uv.es
DESCRIPTION:Speakers: Tomas Raul Rodriguez Frutos (Technische Universität
  Darmstadt)\nhttps://indico.ific.uv.es/event/574/contributions/7531/
LOCATION:Hotel Sercotel Carmen
URL:https://indico.ific.uv.es/event/574/contributions/7531/
END:VEVENT
END:VCALENDAR
