BEGIN:VCALENDAR
VERSION:2.0
PRODID:-//CERN//INDICO//EN
BEGIN:VEVENT
SUMMARY:Status and perspectives of AP in Spain:Cosmology.
DTSTART;VALUE=DATE-TIME:20121127T090000Z
DTEND;VALUE=DATE-TIME:20121127T093000Z
DTSTAMP;VALUE=DATE-TIME:20260419T222903Z
UID:indico-contribution-7527@indico.ific.uv.es
DESCRIPTION:Speakers: Francisco Prada (IFT\, UAM/CSIC)\nhttps://indico.ifi
 c.uv.es/event/574/contributions/7527/
LOCATION:Hotel Sercotel Carmen
URL:https://indico.ific.uv.es/event/574/contributions/7527/
END:VEVENT
END:VCALENDAR
