BEGIN:VCALENDAR
VERSION:2.0
PRODID:-//CERN//INDICO//EN
BEGIN:VEVENT
SUMMARY:General discussion and conclusions.
DTSTART;VALUE=DATE-TIME:20121127T100500Z
DTEND;VALUE=DATE-TIME:20121127T110000Z
DTSTAMP;VALUE=DATE-TIME:20260420T104326Z
UID:indico-contribution-7526@indico.ific.uv.es
DESCRIPTION:Speakers: Inés Gil Botella (CIEMAT)\, Jose Angel Villar (Univ
 ersidad de Zaragoza)\, Juan CORTINA (IFAE)\nhttps://indico.ific.uv.es/even
 t/574/contributions/7526/
LOCATION:Hotel Sercotel Carmen
URL:https://indico.ific.uv.es/event/574/contributions/7526/
END:VEVENT
END:VCALENDAR
