BEGIN:VCALENDAR
VERSION:2.0
PRODID:-//CERN//INDICO//EN
BEGIN:VEVENT
SUMMARY:A Model-Independent Approach to Z' and W' Direct Searches.
DTSTART;VALUE=DATE-TIME:20121126T144500Z
DTEND;VALUE=DATE-TIME:20121126T151000Z
DTSTAMP;VALUE=DATE-TIME:20260419T222918Z
UID:indico-contribution-7523@indico.ific.uv.es
DESCRIPTION:Speakers: Francisco Javier Martínez Lizana (Universidad de Gr
 anada)\nhttps://indico.ific.uv.es/event/574/contributions/7523/
LOCATION:Hotel Sercotel Carmen
URL:https://indico.ific.uv.es/event/574/contributions/7523/
END:VEVENT
END:VCALENDAR
