BEGIN:VCALENDAR
VERSION:2.0
PRODID:-//CERN//INDICO//EN
BEGIN:VEVENT
SUMMARY:Flavour fits beyond SM.
DTSTART;VALUE=DATE-TIME:20121126T140000Z
DTEND;VALUE=DATE-TIME:20121126T143000Z
DTSTAMP;VALUE=DATE-TIME:20260419T222916Z
UID:indico-contribution-7519@indico.ific.uv.es
DESCRIPTION:Speakers: Miguel Nebot Gómez (IFIC\, CSIC/UV)\nhttps://indico
 .ific.uv.es/event/574/contributions/7519/
LOCATION:Hotel Sercotel Carmen
URL:https://indico.ific.uv.es/event/574/contributions/7519/
END:VEVENT
END:VCALENDAR
