BEGIN:VCALENDAR
VERSION:2.0
PRODID:-//CERN//INDICO//EN
BEGIN:VEVENT
SUMMARY:Future linear colliders
DTSTART;VALUE=DATE-TIME:20121127T161500Z
DTEND;VALUE=DATE-TIME:20121127T164500Z
DTSTAMP;VALUE=DATE-TIME:20260419T222915Z
UID:indico-contribution-7510@indico.ific.uv.es
DESCRIPTION:Speakers: Ivan Vila Alvarez (Instituto de Física de Cantabria
  (CSIC-UC))\nhttps://indico.ific.uv.es/event/574/contributions/7510/
LOCATION:Hotel Sercotel Carmen
URL:https://indico.ific.uv.es/event/574/contributions/7510/
END:VEVENT
END:VCALENDAR
