BEGIN:VCALENDAR
VERSION:2.0
PRODID:-//CERN//INDICO//EN
BEGIN:VEVENT
SUMMARY:WW->212nu\, x-section measurements.
DTSTART;VALUE=DATE-TIME:20121126T153500Z
DTEND;VALUE=DATE-TIME:20121126T160000Z
DTSTAMP;VALUE=DATE-TIME:20260420T033857Z
UID:indico-contribution-7506@indico.ific.uv.es
DESCRIPTION:Speakers: Clara Jordá Lope (IFCA - Universidad de Cantabria)\
 nhttps://indico.ific.uv.es/event/574/contributions/7506/
LOCATION:Hotel Sercotel Carmen
URL:https://indico.ific.uv.es/event/574/contributions/7506/
END:VEVENT
END:VCALENDAR
