BEGIN:VCALENDAR
VERSION:2.0
PRODID:-//CERN//INDICO//EN
BEGIN:VEVENT
SUMMARY:NEXT proposal: Overview
DTSTART;VALUE=DATE-TIME:20071018T150000Z
DTEND;VALUE=DATE-TIME:20071018T154500Z
DTSTAMP;VALUE=DATE-TIME:20260419T134516Z
UID:indico-contribution-7082@indico.ific.uv.es
DESCRIPTION:Speakers: J.J. Gómez-Cadenas ()\nhttps://indico.ific.uv.es/ev
 ent/50/contributions/7082/
LOCATION:Barcelona
URL:https://indico.ific.uv.es/event/50/contributions/7082/
END:VEVENT
END:VCALENDAR
