BEGIN:VCALENDAR
VERSION:2.0
PRODID:-//CERN//INDICO//EN
BEGIN:VEVENT
SUMMARY:SuperNEMO proposal: Default design & possible improvements
DTSTART;VALUE=DATE-TIME:20071018T140000Z
DTEND;VALUE=DATE-TIME:20071018T143000Z
DTSTAMP;VALUE=DATE-TIME:20260419T134530Z
UID:indico-contribution-7080@indico.ific.uv.es
DESCRIPTION:Speakers: P. Novella ()\nhttps://indico.ific.uv.es/event/50/co
 ntributions/7080/
LOCATION:Barcelona
URL:https://indico.ific.uv.es/event/50/contributions/7080/
END:VEVENT
END:VCALENDAR
