BEGIN:VCALENDAR
VERSION:2.0
PRODID:-//CERN//INDICO//EN
BEGIN:VEVENT
SUMMARY:Low energy effects of neutrino masses
DTSTART;VALUE=DATE-TIME:20071018T130000Z
DTEND;VALUE=DATE-TIME:20071018T133000Z
DTSTAMP;VALUE=DATE-TIME:20260419T134531Z
UID:indico-contribution-7079@indico.ific.uv.es
DESCRIPTION:Speakers: B. Gavela ()\nhttps://indico.ific.uv.es/event/50/con
 tributions/7079/
LOCATION:Barcelona
URL:https://indico.ific.uv.es/event/50/contributions/7079/
END:VEVENT
END:VCALENDAR
