BEGIN:VCALENDAR
VERSION:2.0
PRODID:-//CERN//INDICO//EN
BEGIN:VEVENT
SUMMARY:Ruegos y preguntas
DTSTART;VALUE=DATE-TIME:20201020T160000Z
DTEND;VALUE=DATE-TIME:20201020T161000Z
DTSTAMP;VALUE=DATE-TIME:20260424T025652Z
UID:indico-contribution-13541@indico.ific.uv.es
DESCRIPTION:https://indico.ific.uv.es/event/4194/contributions/13541/
LOCATION:
URL:https://indico.ific.uv.es/event/4194/contributions/13541/
END:VEVENT
END:VCALENDAR
