BEGIN:VCALENDAR
VERSION:2.0
PRODID:-//CERN//INDICO//EN
BEGIN:VEVENT
SUMMARY:Fecha de la próxima reunión
DTSTART;VALUE=DATE-TIME:20200915T160000Z
DTEND;VALUE=DATE-TIME:20200915T160500Z
DTSTAMP;VALUE=DATE-TIME:20260421T171450Z
UID:indico-contribution-13315@indico.ific.uv.es
DESCRIPTION:https://indico.ific.uv.es/event/4191/contributions/13315/
LOCATION:
URL:https://indico.ific.uv.es/event/4191/contributions/13315/
END:VEVENT
END:VCALENDAR
