BEGIN:VCALENDAR
VERSION:2.0
PRODID:-//CERN//INDICO//EN
BEGIN:VEVENT
SUMMARY:ISO 27001 para Artemisa
DTSTART;VALUE=DATE-TIME:20200915T154500Z
DTEND;VALUE=DATE-TIME:20200915T160000Z
DTSTAMP;VALUE=DATE-TIME:20260421T171501Z
UID:indico-contribution-13314@indico.ific.uv.es
DESCRIPTION:Speakers: Fco. Javier Sanchez Martinez (IFIC)\, Kiko Albiol (C
 SIC)\nhttps://indico.ific.uv.es/event/4191/contributions/13314/
LOCATION:
URL:https://indico.ific.uv.es/event/4191/contributions/13314/
END:VEVENT
END:VCALENDAR
