BEGIN:VCALENDAR
VERSION:2.0
PRODID:-//CERN//INDICO//EN
BEGIN:VEVENT
SUMMARY:Actividades de AI en el IFIC
DTSTART;VALUE=DATE-TIME:20200915T153000Z
DTEND;VALUE=DATE-TIME:20200915T154500Z
DTSTAMP;VALUE=DATE-TIME:20260420T060054Z
UID:indico-contribution-13313@indico.ific.uv.es
DESCRIPTION:Speakers: Arantza Oyanguren (IFIC- Valencia)\, Veronica Sanz (
 )\nhttps://indico.ific.uv.es/event/4191/contributions/13313/
LOCATION:
URL:https://indico.ific.uv.es/event/4191/contributions/13313/
END:VEVENT
END:VCALENDAR
