BEGIN:VCALENDAR
VERSION:2.0
PRODID:-//CERN//INDICO//EN
BEGIN:VEVENT
SUMMARY:Estatus del proyecto screening radiográfico COVID-19
DTSTART;VALUE=DATE-TIME:20200915T151500Z
DTEND;VALUE=DATE-TIME:20200915T153000Z
DTSTAMP;VALUE=DATE-TIME:20260422T062039Z
UID:indico-contribution-13312@indico.ific.uv.es
DESCRIPTION:Speakers: Kiko Albiol (CSIC)\nhttps://indico.ific.uv.es/event/
 4191/contributions/13312/
LOCATION:
URL:https://indico.ific.uv.es/event/4191/contributions/13312/
END:VEVENT
END:VCALENDAR
