BEGIN:VCALENDAR
VERSION:2.0
PRODID:-//CERN//INDICO//EN
BEGIN:VEVENT
SUMMARY:TECH4CV\, Indrómeda\, AVI-IFIC
DTSTART;VALUE=DATE-TIME:20200915T150000Z
DTEND;VALUE=DATE-TIME:20200915T151500Z
DTSTAMP;VALUE=DATE-TIME:20260421T171451Z
UID:indico-contribution-13311@indico.ific.uv.es
DESCRIPTION:Speakers: Santiago Noguera (Universidad de Valencia)\nhttps://
 indico.ific.uv.es/event/4191/contributions/13311/
LOCATION:
URL:https://indico.ific.uv.es/event/4191/contributions/13311/
END:VEVENT
END:VCALENDAR
