BEGIN:VCALENDAR
VERSION:2.0
PRODID:-//CERN//INDICO//EN
BEGIN:VEVENT
SUMMARY:Informe de la reunión con el ITI de la UPV
DTSTART;VALUE=DATE-TIME:20200915T144500Z
DTEND;VALUE=DATE-TIME:20200915T150000Z
DTSTAMP;VALUE=DATE-TIME:20260422T105527Z
UID:indico-contribution-13310@indico.ific.uv.es
DESCRIPTION:Speakers: Juan Jose Hernandez (IFIC)\, Kiko Albiol (CSIC)\nhtt
 ps://indico.ific.uv.es/event/4191/contributions/13310/
LOCATION:
URL:https://indico.ific.uv.es/event/4191/contributions/13310/
END:VEVENT
END:VCALENDAR
