BEGIN:VCALENDAR
VERSION:2.0
PRODID:-//CERN//INDICO//EN
BEGIN:VEVENT
SUMMARY:Calendario y estado actual de la convocatoria 2020.3
DTSTART;VALUE=DATE-TIME:20200915T141500Z
DTEND;VALUE=DATE-TIME:20200915T143000Z
DTSTAMP;VALUE=DATE-TIME:20260422T101817Z
UID:indico-contribution-13308@indico.ific.uv.es
DESCRIPTION:Speakers: Juan Jose Hernandez (IFIC)\nhttps://indico.ific.uv.e
 s/event/4191/contributions/13308/
LOCATION:
URL:https://indico.ific.uv.es/event/4191/contributions/13308/
END:VEVENT
END:VCALENDAR
