BEGIN:VCALENDAR
VERSION:2.0
PRODID:-//CERN//INDICO//EN
BEGIN:VEVENT
SUMMARY:Estatus General de Artemisa
DTSTART;VALUE=DATE-TIME:20200915T140000Z
DTEND;VALUE=DATE-TIME:20200915T141500Z
DTSTAMP;VALUE=DATE-TIME:20260421T171309Z
UID:indico-contribution-13307@indico.ific.uv.es
DESCRIPTION:Speakers: Fco. Javier Sanchez Martinez (IFIC)\nhttps://indico.
 ific.uv.es/event/4191/contributions/13307/
LOCATION:
URL:https://indico.ific.uv.es/event/4191/contributions/13307/
END:VEVENT
END:VCALENDAR
