BEGIN:VCALENDAR
VERSION:2.0
PRODID:-//CERN//INDICO//EN
BEGIN:VEVENT
SUMMARY:Design and production of mechanical local supports for ATLAS ITk d
 etectors
DTSTART;VALUE=DATE-TIME:20200311T143000Z
DTEND;VALUE=DATE-TIME:20200311T144000Z
DTSTAMP;VALUE=DATE-TIME:20260420T033838Z
UID:indico-contribution-1558-12379@indico.ific.uv.es
DESCRIPTION:Speakers: Pablo León (CSIC)\nDesign and production of mechani
 cal local supports for ATLAS ITk detectors\n\nhttps://indico.ific.uv.es/ev
 ent/4029/contributions/12379/
LOCATION:Universe
URL:https://indico.ific.uv.es/event/4029/contributions/12379/
END:VEVENT
BEGIN:VEVENT
SUMMARY:LOS SERVICIOS DE FABRICACIÓN MECÁNICA EN EL IFIC
DTSTART;VALUE=DATE-TIME:20200311T141500Z
DTEND;VALUE=DATE-TIME:20200311T142500Z
DTSTAMP;VALUE=DATE-TIME:20260420T033838Z
UID:indico-contribution-1558-12380@indico.ific.uv.es
DESCRIPTION:Speakers: Jose Luis Jordán Coronado (CSIC/IFIC)\nDescripción
  de los servicios de fabricación mecánica del IFIC.\n\nDescripción de l
 as instalaciones\, software\, maquinaria y personal.\nEjemplos de piezas y
  conjuntos fabricados en el taller del IFIC.\n\nhttps://indico.ific.uv.es/
 event/4029/contributions/12380/
LOCATION:Universe
URL:https://indico.ific.uv.es/event/4029/contributions/12380/
END:VEVENT
BEGIN:VEVENT
SUMMARY:Desarrollos termomecánicos para detectores
DTSTART;VALUE=DATE-TIME:20200311T150000Z
DTEND;VALUE=DATE-TIME:20200311T151000Z
DTSTAMP;VALUE=DATE-TIME:20260420T033838Z
UID:indico-contribution-1558-12381@indico.ific.uv.es
DESCRIPTION:Speakers: Guillem Vidal (IFIC)\nServicios de ingeniería mecá
 nica:\nATLAS: módulo de servicios\nFuturos Colisionadores: Ensayos de vib
 raciones y refrigeración por microcanales\nBelle 2\nDiseño de estructura
  de soporte DTAS nuclear\nPlanos para el instituto: Sala Blanca\, Taller\n
 \nhttps://indico.ific.uv.es/event/4029/contributions/12381/
LOCATION:Universe
URL:https://indico.ific.uv.es/event/4029/contributions/12381/
END:VEVENT
BEGIN:VEVENT
SUMMARY:Diseño y fabricación mecánica para el upgrade de ATLAS ITK.
DTSTART;VALUE=DATE-TIME:20200311T144500Z
DTEND;VALUE=DATE-TIME:20200311T145500Z
DTSTAMP;VALUE=DATE-TIME:20260420T033838Z
UID:indico-contribution-1558-12382@indico.ific.uv.es
DESCRIPTION:Speakers: Adrián Platero (CSIC)\nDiseños mecánicos para el 
 Upgrade de ATLAS ITK y posterior fabricación en el taller del IFIC.\n\nht
 tps://indico.ific.uv.es/event/4029/contributions/12382/
LOCATION:Universe
URL:https://indico.ific.uv.es/event/4029/contributions/12382/
END:VEVENT
BEGIN:VEVENT
SUMMARY:Mecánica de NEXT en el IFIC
DTSTART;VALUE=DATE-TIME:20200311T151500Z
DTEND;VALUE=DATE-TIME:20200311T152500Z
DTSTAMP;VALUE=DATE-TIME:20260420T033838Z
UID:indico-contribution-1558-12383@indico.ific.uv.es
DESCRIPTION:Speakers: Martinez Perez Alberto (IFIC)\nDesde hace ya varios 
 años\, la mayor parte del diseño mecánico del experimento NEXT se desar
 rolla en el IFIC. En esos dos últimos años hemos estado trabajando princ
 ipalmente en el rediseño del detector NEXT-100\, que se instalará en el 
 Laboratorio Subterráneo de Canfranc (LSC) a finales de año. \nDurante es
 te tiempo hemos diseñado y supervisado la fabricación del tanque de recu
 peración de NEXT-100 de 20m3\, realizado simulaciones del flujo de gas en
  el interior del detector con COMSOL\, modelado 3D completo del detector y
  generación de planos de fabricación\, cálculos según normativas ASME 
 y EN13445\, diseño y fabricación de la nueva Field Cage de NEXT-DEMO++\,
  entre otras tareas.\nEn los próximos meses comenzará la fabricación de
  todas las piezas de NEXT-100\, lo cual supervisaremos minuciosamente\, se
 guidamente llevaremos a cabo la campaña de limpieza\, y por último\, su 
 instalación en el LSC. Todo esto\, más las pruebas de estanqueidad y rec
 irculación\, supondrá aproximadamente año y medio de trabajo.\n\nhttps:
 //indico.ific.uv.es/event/4029/contributions/12383/
LOCATION:Universe
URL:https://indico.ific.uv.es/event/4029/contributions/12383/
END:VEVENT
BEGIN:VEVENT
SUMMARY:Ingeniería mecánica del proyecto PETALO en el IFIC
DTSTART;VALUE=DATE-TIME:20200311T153000Z
DTEND;VALUE=DATE-TIME:20200311T154000Z
DTSTAMP;VALUE=DATE-TIME:20260420T033838Z
UID:indico-contribution-1558-12384@indico.ific.uv.es
DESCRIPTION:Speakers: Daniel Cubero Mimbiela (Instituto de Física Corpusc
 ular)\nEl proyecto PETALO consiste en elaborar un tomógrafo por emisión 
 de positrones (PET)\, dejando atrás los cristales monolíticos de los que
  actualmente se componen estos e incorporando el Xenón líquido de alta p
 ureza para hacer posible la reconstrucción de la imagen.\nDado que el pun
 to de licuefacción del Xenón se encuentra entre -108 y -112 ºC a presi
 ón atmosférica\, es necesario todo un complejo termodinámico para hacer
  posible este cambio de fase. La unión de estos dos factores (pureza del 
 xenón y complejidad termodinámica) hacen que el proyecto gire en torno a
  la tecnología de vacío.\nMecánicamente\, el prototipo se compone de un
  criostato\, compuesto por el propio detector\, una cámara de vacío que 
 cumple la función de aislamiento térmico y diferentes elementos para hac
 er posible el cambio de fase y un complejo sistema de gas con una serie de
  reguladores para mantener las condiciones necesarias.\nLos ingenieros de 
 PETALO\, en el IFIC\, nos encargamos del diseño íntegro de cada uno de l
 os componentes del criostato\, así como el propio prototipo. También hem
 os diseñado el sistema de gas mediante el cual se recircula el Xenón\, s
 e almacena\, o se evacúa en caso de emergencia.\n\nhttps://indico.ific.uv
 .es/event/4029/contributions/12384/
LOCATION:Universe
URL:https://indico.ific.uv.es/event/4029/contributions/12384/
END:VEVENT
BEGIN:VEVENT
SUMMARY:Introducción a los servicios de la Unidad de Ingeniería Mecánic
 a del IFIC
DTSTART;VALUE=DATE-TIME:20200311T140000Z
DTEND;VALUE=DATE-TIME:20200311T141000Z
DTSTAMP;VALUE=DATE-TIME:20260420T033838Z
UID:indico-contribution-1558-12378@indico.ific.uv.es
DESCRIPTION:Speakers: José Vicente Civera ()\nPresentación sobre los ser
 vicios que se prestan en la Unidad de Mecánica del IFIC\, y sobre los med
 ios técnicos disponibles para ello.\n\nLas principales áreas de trabajo 
 de la unidad son: el asesoramiento técnico en temas relacionados con la i
 ngeniería mecánica\, el diseño y modelado 3D mediante software CAD\, la
  simulación computacional mediante software FEM y afines\, la generación
  de informes de resultados\, documentación técnica y planos de detalle\,
  la fabricación y ensamblaje de piezas y conjuntos\, la integración de c
 omponentes y calibración de setups basados en posicionadores mecánicos d
 e alta precisión\, incluyendo el desarrollo de parte de su software de co
 ntrol\, las tareas de medición dimensional\, y los ensayos de propiedades
  mecánicas de componentes.\n\nhttps://indico.ific.uv.es/event/4029/contri
 butions/12378/
LOCATION:Universe
URL:https://indico.ific.uv.es/event/4029/contributions/12378/
END:VEVENT
END:VCALENDAR
