BEGIN:VCALENDAR
VERSION:2.0
PRODID:-//CERN//INDICO//EN
BEGIN:VEVENT
SUMMARY:Design and production of mechanical local supports for ATLAS ITk d
 etectors
DTSTART;VALUE=DATE-TIME:20200311T143000Z
DTEND;VALUE=DATE-TIME:20200311T144000Z
DTSTAMP;VALUE=DATE-TIME:20260420T123949Z
UID:indico-contribution-12379@indico.ific.uv.es
DESCRIPTION:Speakers: Pablo León (CSIC)\nDesign and production of mechani
 cal local supports for ATLAS ITk detectors\n\nhttps://indico.ific.uv.es/ev
 ent/4029/contributions/12379/
LOCATION:Universe
URL:https://indico.ific.uv.es/event/4029/contributions/12379/
END:VEVENT
END:VCALENDAR
