BEGIN:VCALENDAR
VERSION:2.0
PRODID:-//CERN//INDICO//EN
BEGIN:VEVENT
SUMMARY:Recursos de Computación Científica en el IFIC
DTSTART;VALUE=DATE-TIME:20200311T090000Z
DTEND;VALUE=DATE-TIME:20200311T091500Z
DTSTAMP;VALUE=DATE-TIME:20260419T175300Z
UID:indico-contribution-12377@indico.ific.uv.es
DESCRIPTION:Speakers: Fco. Javier Sanchez Martinez ()\nhttps://indico.ific
 .uv.es/event/4029/contributions/12377/
LOCATION:Universe
URL:https://indico.ific.uv.es/event/4029/contributions/12377/
END:VEVENT
END:VCALENDAR
