BEGIN:VCALENDAR
VERSION:2.0
PRODID:-//CERN//INDICO//EN
BEGIN:VEVENT
SUMMARY:Introducción
DTSTART;VALUE=DATE-TIME:20200312T083000Z
DTEND;VALUE=DATE-TIME:20200312T083500Z
DTSTAMP;VALUE=DATE-TIME:20260419T142912Z
UID:indico-contribution-12361@indico.ific.uv.es
DESCRIPTION:Speakers: Pepe Bernabeu ()\nhttps://indico.ific.uv.es/event/40
 29/contributions/12361/
LOCATION:Universe
URL:https://indico.ific.uv.es/event/4029/contributions/12361/
END:VEVENT
END:VCALENDAR
