BEGIN:VCALENDAR
VERSION:2.0
PRODID:-//CERN//INDICO//EN
BEGIN:VEVENT
SUMMARY:Ejercicio ATLAS-W
DTSTART;VALUE=DATE-TIME:20200305T103000Z
DTEND;VALUE=DATE-TIME:20200305T120000Z
DTSTAMP;VALUE=DATE-TIME:20260422T012450Z
UID:indico-contribution-11912@indico.ific.uv.es
DESCRIPTION:https://indico.ific.uv.es/event/3938/contributions/11912/
LOCATION:Facultat de Física Aulas de informática III y IV
URL:https://indico.ific.uv.es/event/3938/contributions/11912/
END:VEVENT
END:VCALENDAR
