BEGIN:VCALENDAR
VERSION:2.0
PRODID:-//CERN//INDICO//EN
BEGIN:VEVENT
SUMMARY:Introducción al IFIC
DTSTART;VALUE=DATE-TIME:20200305T134500Z
DTEND;VALUE=DATE-TIME:20200305T141500Z
DTSTAMP;VALUE=DATE-TIME:20260422T012441Z
UID:indico-contribution-11911@indico.ific.uv.es
DESCRIPTION:Speakers: Alberto Aparici (IFIC)\nhttps://indico.ific.uv.es/ev
 ent/3938/contributions/11911/
LOCATION:Parc Científic de la Universitat de València Salón de actos de
 l Edificio de Cabecera
URL:https://indico.ific.uv.es/event/3938/contributions/11911/
END:VEVENT
END:VCALENDAR
