BEGIN:VCALENDAR
VERSION:2.0
PRODID:-//CERN//INDICO//EN
BEGIN:VEVENT
SUMMARY:Comentario de resultados
DTSTART;VALUE=DATE-TIME:20200402T131500Z
DTEND;VALUE=DATE-TIME:20200402T140000Z
DTSTAMP;VALUE=DATE-TIME:20260422T090037Z
UID:indico-contribution-11904@indico.ific.uv.es
DESCRIPTION:Speakers: Mariam Tórtola (IFIC\, CSIC / Univ. de Valencia)\nh
 ttps://indico.ific.uv.es/event/3937/contributions/11904/
LOCATION:Parc Científic de la Universitat de València Salón de actos de
 l Edificio de Cabecera
URL:https://indico.ific.uv.es/event/3937/contributions/11904/
END:VEVENT
END:VCALENDAR
