BEGIN:VCALENDAR
VERSION:2.0
PRODID:-//CERN//INDICO//EN
BEGIN:VEVENT
SUMMARY:Introducción a los aceleradores de partículas\, LHC y ATLAS
DTSTART;VALUE=DATE-TIME:20200211T090000Z
DTEND;VALUE=DATE-TIME:20200211T093000Z
DTSTAMP;VALUE=DATE-TIME:20260420T234613Z
UID:indico-contribution-11899@indico.ific.uv.es
DESCRIPTION:Speakers: Maria Moreno Llacer (IFIC (CSIC-UV))\nhttps://indico
 .ific.uv.es/event/3936/contributions/11899/
LOCATION:Facultat de Física Salón de Grados Lise Meitner
URL:https://indico.ific.uv.es/event/3936/contributions/11899/
END:VEVENT
END:VCALENDAR
