BEGIN:VCALENDAR
VERSION:2.0
PRODID:-//CERN//INDICO//EN
BEGIN:VEVENT
SUMMARY:Ejercicio ATLAS-Z
DTSTART;VALUE=DATE-TIME:20200211T103000Z
DTEND;VALUE=DATE-TIME:20200211T120000Z
DTSTAMP;VALUE=DATE-TIME:20260420T164023Z
UID:indico-contribution-11896@indico.ific.uv.es
DESCRIPTION:https://indico.ific.uv.es/event/3936/contributions/11896/
LOCATION:Facultad de Matemáticas Aulas de informática II y V
URL:https://indico.ific.uv.es/event/3936/contributions/11896/
END:VEVENT
END:VCALENDAR
