BEGIN:VCALENDAR
VERSION:2.0
PRODID:-//CERN//INDICO//EN
BEGIN:VEVENT
SUMMARY:Mujeres en la ciencia
DTSTART;VALUE=DATE-TIME:20200211T133000Z
DTEND;VALUE=DATE-TIME:20200211T141500Z
DTSTAMP;VALUE=DATE-TIME:20260421T163301Z
UID:indico-contribution-11893@indico.ific.uv.es
DESCRIPTION:Speakers: Florencia Luciana Castillo (IFIC)\nhttps://indico.if
 ic.uv.es/event/3936/contributions/11893/
LOCATION:Parc Científic de la Universitat de València Salón de actos de
 l Edificio de Cabecera
URL:https://indico.ific.uv.es/event/3936/contributions/11893/
END:VEVENT
END:VCALENDAR
