BEGIN:VCALENDAR
VERSION:2.0
PRODID:-//CERN//INDICO//EN
BEGIN:VEVENT
SUMMARY:Visita: Grado en Física\, UV
DTSTART;VALUE=DATE-TIME:20191202T143000Z
DTEND;VALUE=DATE-TIME:20191202T173000Z
DTSTAMP;VALUE=DATE-TIME:20260423T021637Z
UID:indico-event-3853@indico.ific.uv.es
DESCRIPTION:Visita de estudiantes del Grado en Física de la UV.\n\nhttps:
 //indico.ific.uv.es/event/3853/
LOCATION:IFIC
URL:https://indico.ific.uv.es/event/3853/
END:VEVENT
END:VCALENDAR
