BEGIN:VCALENDAR
VERSION:2.0
PRODID:-//CERN//INDICO//EN
BEGIN:VEVENT
SUMMARY:COMCHA: News
DTSTART;VALUE=DATE-TIME:20190627T140000Z
DTEND;VALUE=DATE-TIME:20190627T140500Z
DTSTAMP;VALUE=DATE-TIME:20260424T042450Z
UID:indico-contribution-11227@indico.ific.uv.es
DESCRIPTION:Speakers: Arantza Oyanguren (IFIC- Valencia)\, Luca Fiorini (I
 FIC / U. Valencia)\nhttps://indico.ific.uv.es/event/3797/contributions/112
 27/
LOCATION:Virtual Vidyo URL:
URL:https://indico.ific.uv.es/event/3797/contributions/11227/
END:VEVENT
END:VCALENDAR
