BEGIN:VCALENDAR
VERSION:2.0
PRODID:-//CERN//INDICO//EN
BEGIN:VEVENT
SUMMARY:News from CLIC
DTSTART;VALUE=DATE-TIME:20191022T072500Z
DTEND;VALUE=DATE-TIME:20191022T073500Z
DTSTAMP;VALUE=DATE-TIME:20260422T151842Z
UID:indico-contribution-11642@indico.ific.uv.es
DESCRIPTION:Speakers: Alberto Ruiz Jimeno (IFCA (CSIC-Univ. Cantabria (CCI
 )))\nhttps://indico.ific.uv.es/event/3780/contributions/11642/
LOCATION:
URL:https://indico.ific.uv.es/event/3780/contributions/11642/
END:VEVENT
END:VCALENDAR
