BEGIN:VCALENDAR
VERSION:2.0
PRODID:-//CERN//INDICO//EN
BEGIN:VEVENT
SUMMARY:Detector R&D - silicon
DTSTART;VALUE=DATE-TIME:20191022T084500Z
DTEND;VALUE=DATE-TIME:20191022T085500Z
DTSTAMP;VALUE=DATE-TIME:20260424T131105Z
UID:indico-contribution-11640@indico.ific.uv.es
DESCRIPTION:Speakers: Salvador Hidalgo (Centro Nacional de Microelectróni
 ca (IMB-CNM-CSIC))\nhttps://indico.ific.uv.es/event/3780/contributions/116
 40/
LOCATION:
URL:https://indico.ific.uv.es/event/3780/contributions/11640/
END:VEVENT
END:VCALENDAR
