BEGIN:VCALENDAR
VERSION:2.0
PRODID:-//CERN//INDICO//EN
BEGIN:VEVENT
SUMMARY:Detector R&D - calorimetry
DTSTART;VALUE=DATE-TIME:20191022T083500Z
DTEND;VALUE=DATE-TIME:20191022T084500Z
DTSTAMP;VALUE=DATE-TIME:20260423T185741Z
UID:indico-contribution-11639@indico.ific.uv.es
DESCRIPTION:Speakers: MaryCruz Fouz (CIEMAT)\nhttps://indico.ific.uv.es/ev
 ent/3780/contributions/11639/
LOCATION:
URL:https://indico.ific.uv.es/event/3780/contributions/11639/
END:VEVENT
END:VCALENDAR
