BEGIN:VCALENDAR
VERSION:2.0
PRODID:-//CERN//INDICO//EN
BEGIN:VEVENT
SUMMARY:Muography applied to the preventive maintenance of industrial stru
 ctures
DTSTART;VALUE=DATE-TIME:20191022T090000Z
DTEND;VALUE=DATE-TIME:20191022T092000Z
DTSTAMP;VALUE=DATE-TIME:20260424T101205Z
UID:indico-contribution-11638@indico.ific.uv.es
DESCRIPTION:Speakers: Pablo Martinez Ruiz Del Arbol (IFCA (UNICAN-CSIC))\n
 Muography is emerging as an effective Non-Destructive Testing technique in
  the last years. Due to the high penetration power of cosmic muons and its
  natural and inexpensive origin\, several companies are considering to app
 ly it to the preventive maintenance of industrial equipment such as pipes 
 and cauldrons. This contribution reviews the construction of a fully opera
 tive gas-based muon detector system and the development of algorithms incl
 uding state-of-the-art machine learning techniques applied to the measurem
 ent of the degradation of the inner walls of an insulated pipe.\n\nhttps:/
 /indico.ific.uv.es/event/3780/contributions/11638/
LOCATION:
URL:https://indico.ific.uv.es/event/3780/contributions/11638/
END:VEVENT
END:VCALENDAR
