BEGIN:VCALENDAR
VERSION:2.0
PRODID:-//CERN//INDICO//EN
BEGIN:VEVENT
SUMMARY:Red LHC discussion
DTSTART;VALUE=DATE-TIME:20191022T090000Z
DTEND;VALUE=DATE-TIME:20191022T093000Z
DTSTAMP;VALUE=DATE-TIME:20260423T025224Z
UID:indico-contribution-11634@indico.ific.uv.es
DESCRIPTION:Speakers: Carmen Garcia (IFIC)\nhttps://indico.ific.uv.es/even
 t/3780/contributions/11634/
LOCATION:
URL:https://indico.ific.uv.es/event/3780/contributions/11634/
END:VEVENT
END:VCALENDAR
