BEGIN:VCALENDAR
VERSION:2.0
PRODID:-//CERN//INDICO//EN
BEGIN:VEVENT
SUMMARY:Low pt muon triggers for upgrade: CPU and Allen
DTSTART;VALUE=DATE-TIME:20191021T144000Z
DTEND;VALUE=DATE-TIME:20191021T150000Z
DTSTAMP;VALUE=DATE-TIME:20260422T173040Z
UID:indico-contribution-11621@indico.ific.uv.es
DESCRIPTION:Speakers: Adrian Casais ()\nhttps://indico.ific.uv.es/event/37
 80/contributions/11621/
LOCATION:
URL:https://indico.ific.uv.es/event/3780/contributions/11621/
END:VEVENT
END:VCALENDAR
