BEGIN:VCALENDAR
VERSION:2.0
PRODID:-//CERN//INDICO//EN
BEGIN:VEVENT
SUMMARY:DarkSide-20k and R&D in LAr-TPCs at CIEMAT
DTSTART;VALUE=DATE-TIME:20191022T083000Z
DTEND;VALUE=DATE-TIME:20191022T085000Z
DTSTAMP;VALUE=DATE-TIME:20260423T220526Z
UID:indico-contribution-11608@indico.ific.uv.es
DESCRIPTION:Speakers: Roberto Santorelli (CIEMAT)\nhttps://indico.ific.uv.
 es/event/3780/contributions/11608/
LOCATION:
URL:https://indico.ific.uv.es/event/3780/contributions/11608/
END:VEVENT
END:VCALENDAR
