BEGIN:VCALENDAR
VERSION:2.0
PRODID:-//CERN//INDICO//EN
BEGIN:VEVENT
SUMMARY:Measurement of the low-radioactivity argon for DarkSide-20k with D
 ART at LSC
DTSTART;VALUE=DATE-TIME:20191022T085000Z
DTEND;VALUE=DATE-TIME:20191022T091000Z
DTSTAMP;VALUE=DATE-TIME:20260422T204015Z
UID:indico-contribution-11583@indico.ific.uv.es
DESCRIPTION:Speakers: Luciano Romero (CIEMAT)\nhttps://indico.ific.uv.es/e
 vent/3780/contributions/11583/
LOCATION:
URL:https://indico.ific.uv.es/event/3780/contributions/11583/
END:VEVENT
END:VCALENDAR
