BEGIN:VCALENDAR
VERSION:2.0
PRODID:-//CERN//INDICO//EN
BEGIN:VEVENT
SUMMARY:Latest search results from the MoEDAL detector
DTSTART;VALUE=DATE-TIME:20191022T072000Z
DTEND;VALUE=DATE-TIME:20191022T074000Z
DTSTAMP;VALUE=DATE-TIME:20260422T154127Z
UID:indico-contribution-11578@indico.ific.uv.es
DESCRIPTION:Speakers: Arka Santra (Instituto de Fisica Corpuscular)\nhttps
 ://indico.ific.uv.es/event/3780/contributions/11578/
LOCATION:
URL:https://indico.ific.uv.es/event/3780/contributions/11578/
END:VEVENT
END:VCALENDAR
